BEGIN:VCALENDAR
VERSION:2.0
PRODID:-//Carne BRAMAN - ECPv4.0.5//NONSGML v1.0//EN
CALSCALE:GREGORIAN
METHOD:PUBLISH
X-WR-CALNAME:Carne BRAMAN
X-ORIGINAL-URL:https://carnebraman.com
X-WR-CALDESC:Events for Carne BRAMAN
BEGIN:VEVENT
DTSTART;VALUE=DATE:20260112
DTEND;VALUE=DATE:20260112
DTSTAMP:20260421T135914
CREATED:20160523
LAST-MODIFIED:20251231
UID:28485-1768176000-1768262399@carnebraman.com
SUMMARY:Ruta Manzanares
DESCRIPTION:
URL:https://carnebraman.com/encuentro/ruta-manzanares/2026-01-12/
CATEGORIES:Manzanares
END:VEVENT
END:VCALENDAR