BEGIN:VCALENDAR
VERSION:2.0
PRODID:-//Carne BRAMAN - ECPv4.0.5//NONSGML v1.0//EN
CALSCALE:GREGORIAN
METHOD:PUBLISH
X-WR-CALNAME:Carne BRAMAN
X-ORIGINAL-URL:https://carnebraman.com
X-WR-CALDESC:Events for Carne BRAMAN
BEGIN:VEVENT
DTSTART;VALUE=DATE:20221213
DTEND;VALUE=DATE:20221213
DTSTAMP:20260421T161417
CREATED:20160523
LAST-MODIFIED:20220921
UID:26290-1670889600-1670975999@carnebraman.com
SUMMARY:Ruta Embajadores
DESCRIPTION:
URL:https://carnebraman.com/encuentro/ruta-embajadores-2022-12-06/
CATEGORIES:Embajadores
END:VEVENT
END:VCALENDAR