BEGIN:VCALENDAR
VERSION:2.0
PRODID:-//Carne BRAMAN - ECPv4.0.5//NONSGML v1.0//EN
CALSCALE:GREGORIAN
METHOD:PUBLISH
X-WR-CALNAME:Carne BRAMAN
X-ORIGINAL-URL:https://carnebraman.com
X-WR-CALDESC:Events for Carne BRAMAN
BEGIN:VEVENT
DTSTART;VALUE=DATE:20241210
DTEND;VALUE=DATE:20241210
DTSTAMP:20260422T012542
CREATED:20160523
LAST-MODIFIED:20241024
UID:27864-1733788800-1733875199@carnebraman.com
SUMMARY:Ruta Alcalá
DESCRIPTION:
URL:https://carnebraman.com/encuentro/ruta-alcala-2021-01-12-2024-12-03-2/
CATEGORIES:Alcalá
END:VEVENT
END:VCALENDAR