BEGIN:VCALENDAR
VERSION:2.0
PRODID:-//Carne BRAMAN - ECPv4.0.5//NONSGML v1.0//EN
CALSCALE:GREGORIAN
METHOD:PUBLISH
X-WR-CALNAME:Carne BRAMAN
X-ORIGINAL-URL:https://carnebraman.com
X-WR-CALDESC:Events for Carne BRAMAN
BEGIN:VEVENT
DTSTART;VALUE=DATE:20230822
DTEND;VALUE=DATE:20230822
DTSTAMP:20260421T103030
CREATED:20160523
LAST-MODIFIED:20230610
UID:26896-1692662400-1692748799@carnebraman.com
SUMMARY:Ruta Alcalá
DESCRIPTION:
URL:https://carnebraman.com/encuentro/ruta-alcala-2021-01-12-2023-08-15/
CATEGORIES:Alcalá
END:VEVENT
END:VCALENDAR